BEGIN:VCALENDAR
VERSION:2.0
PRODID:-//213.154.231.201//NONSGML kigkonsult.se iCalcreator 2.20//
CALSCALE:GREGORIAN
METHOD:PUBLISH
X-WR-TIMEZONE:Europe/Amsterdam
BEGIN:VEVENT
UID:event493@Piratenkoor "de Stormvogels"
DTSTAMP:20260424T163437Z
CATEGORIES:Besloten    Onb
DESCRIPTION:Hollandse avond\nCategorie: Besloten    Onb\nLink: http://pirat
 enkoor.destormvogels.nl/index.php?option=com_jem&view=event&id=493:holland
 se-avond\n
DTSTART;TZID=Europe/Amsterdam:20260825T193000
DTEND;TZID=Europe/Amsterdam:20260825T210000
LOCATION:Hotel restaurant De Oringer Marke\,Hoofdstraat 9\,7873 BC Odoorn
SUMMARY:Hollandse avond
URL:http://piratenkoor.destormvogels.nl/index.php?option=com_jem&view=event
 &id=493:hollandse-avond
END:VEVENT
END:VCALENDAR