BEGIN:VCALENDAR
VERSION:2.0
PRODID:-//213.154.231.201//NONSGML kigkonsult.se iCalcreator 2.20//
CALSCALE:GREGORIAN
METHOD:PUBLISH
X-WR-TIMEZONE:Europe/Amsterdam
BEGIN:VEVENT
UID:event496@Piratenkoor "de Stormvogels"
DTSTAMP:20260424T163435Z
CATEGORIES:Openbaar     G.i.
DESCRIPTION:Korenfestival Emmen\nCategorie: Openbaar     G.i.\nLink: http:/
 /piratenkoor.destormvogels.nl/index.php?option=com_jem&view=event&id=496:k
 orenfestival-emmen\n
DTSTART;TZID=Europe/Amsterdam:20260912T120000
DTEND;TZID=Europe/Amsterdam:20260912T170000
LOCATION:Emmen\,Emmen
SUMMARY:Korenfestival Emmen
URL:http://piratenkoor.destormvogels.nl/index.php?option=com_jem&view=event
 &id=496:korenfestival-emmen
END:VEVENT
END:VCALENDAR