BEGIN:VCALENDAR
VERSION:2.0
PRODID:-//213.154.231.201//NONSGML kigkonsult.se iCalcreator 2.20//
CALSCALE:GREGORIAN
METHOD:PUBLISH
X-WR-TIMEZONE:Europe/Amsterdam
BEGIN:VEVENT
UID:event206@Piratenkoor "de Stormvogels"
DTSTAMP:20260425T152843Z
CATEGORIES:Openbaar    Onb
DESCRIPTION:Loop je Loop\nCategorie: Openbaar    Onb\nLink: https://piraten
 koor.destormvogels.nl/index.php?option=com_jem&view=event&id=206:donkerbro
 ek\n
DTSTART;TZID=Europe/Amsterdam:20170520T130000
DTEND;TZID=Europe/Amsterdam:20170520T160000
LOCATION:Donkerbroek\,Donkerbroek 
SUMMARY:Loop je Loop
URL:https://piratenkoor.destormvogels.nl/index.php?option=com_jem&view=even
 t&id=206:donkerbroek
END:VEVENT
END:VCALENDAR