BEGIN:VCALENDAR
VERSION:2.0
PRODID:-//213.154.231.201//NONSGML kigkonsult.se iCalcreator 2.20//
CALSCALE:GREGORIAN
METHOD:PUBLISH
X-WR-TIMEZONE:Europe/Amsterdam
BEGIN:VEVENT
UID:event208@Piratenkoor "de Stormvogels"
DTSTAMP:20260424T133552Z
CATEGORIES:Openbaar    Onb
DESCRIPTION:Shantyfestival Barneveld\nCategorie: Openbaar    Onb\nLink: htt
 ps://piratenkoor.destormvogels.nl/index.php?option=com_jem&view=event&id=2
 08:shantyfestival-barneveld\n
DTSTART;TZID=Europe/Amsterdam:20170527T113000
DTEND;TZID=Europe/Amsterdam:20170527T170000
LOCATION:Barneveld\,Raadhuisplein\,Barneveld
SUMMARY:Shantyfestival Barneveld
URL:https://piratenkoor.destormvogels.nl/index.php?option=com_jem&view=even
 t&id=208:shantyfestival-barneveld
END:VEVENT
END:VCALENDAR