BEGIN:VCALENDAR
VERSION:2.0
PRODID:-//213.154.231.201//NONSGML kigkonsult.se iCalcreator 2.20//
CALSCALE:GREGORIAN
METHOD:PUBLISH
X-WR-TIMEZONE:Europe/Amsterdam
BEGIN:VEVENT
UID:event234@Piratenkoor "de Stormvogels"
DTSTAMP:20260424T133612Z
CATEGORIES:Openbaar    Onb
DESCRIPTION:Shantyfestival   Valthe\nCategorie: Openbaar    Onb\nLink: http
 s://piratenkoor.destormvogels.nl/index.php?option=com_jem&view=event&id=23
 4:shantyfestival-valthe\n
DTSTART;TZID=Europe/Amsterdam:20170903T120000
DTEND;TZID=Europe/Amsterdam:20170903T170000
LOCATION:Valthe\,Valthe
SUMMARY:Shantyfestival   Valthe
URL:https://piratenkoor.destormvogels.nl/index.php?option=com_jem&view=even
 t&id=234:shantyfestival-valthe
END:VEVENT
END:VCALENDAR