BEGIN:VCALENDAR
VERSION:2.0
PRODID:-//213.154.231.201//NONSGML kigkonsult.se iCalcreator 2.20//
CALSCALE:GREGORIAN
METHOD:PUBLISH
X-WR-TIMEZONE:Europe/Amsterdam
BEGIN:VEVENT
UID:event238@Piratenkoor "de Stormvogels"
DTSTAMP:20260424T133552Z
CATEGORIES:Openbaar     G.i.
DESCRIPTION:Kartoffelmarkt Wezuwe (Dld)\nCategorie: Openbaar     G.i.\nLink
 : https://piratenkoor.destormvogels.nl/index.php?option=com_jem&view=event
 &id=238:kartoffelmarkt-wezuwe-dld\n
DTSTART;TZID=Europe/Amsterdam:20170917T150000
DTEND;TZID=Europe/Amsterdam:20170917T180000
LOCATION:Wesuwe (D)\,Czerlitzkastrasse 2\,49733 Wesuwe
SUMMARY:Kartoffelmarkt Wezuwe (Dld)
URL:https://piratenkoor.destormvogels.nl/index.php?option=com_jem&view=even
 t&id=238:kartoffelmarkt-wezuwe-dld
END:VEVENT
END:VCALENDAR