BEGIN:VCALENDAR
VERSION:2.0
PRODID:-//213.154.231.201//NONSGML kigkonsult.se iCalcreator 2.20//
CALSCALE:GREGORIAN
METHOD:PUBLISH
X-WR-TIMEZONE:Europe/Amsterdam
BEGIN:VEVENT
UID:event259@Piratenkoor "de Stormvogels"
DTSTAMP:20260424T133551Z
CATEGORIES:Openbaar   Derden
DESCRIPTION:Shantyfestival Woerden\nCategorie: Openbaar   Derden\nLink: htt
 ps://piratenkoor.destormvogels.nl/index.php?option=com_jem&view=event&id=2
 59:shantyfestival-woerden\n
DTSTART;TZID=Europe/Amsterdam:20180609T120000
DTEND;TZID=Europe/Amsterdam:20180609T173000
LOCATION:Woerden\,Rijnstraat\,Woerden
SUMMARY:Shantyfestival Woerden
URL:https://piratenkoor.destormvogels.nl/index.php?option=com_jem&view=even
 t&id=259:shantyfestival-woerden
END:VEVENT
END:VCALENDAR