BEGIN:VCALENDAR
VERSION:2.0
PRODID:-//213.154.231.201//NONSGML kigkonsult.se iCalcreator 2.20//
CALSCALE:GREGORIAN
METHOD:PUBLISH
X-WR-TIMEZONE:Europe/Amsterdam
BEGIN:VEVENT
UID:event269@Piratenkoor "de Stormvogels"
DTSTAMP:20260424T133551Z
CATEGORIES:Openbaar     G.i.
DESCRIPTION: Shantyfestival Putten (Gld)\nCategorie: Openbaar     G.i.\nLin
 k: https://piratenkoor.destormvogels.nl/index.php?option=com_jem&view=even
 t&id=269:shantyfestival-putten-gld\n
DTSTART;TZID=Europe/Amsterdam:20180818T130000
DTEND;TZID=Europe/Amsterdam:20180818T170000
LOCATION:Putten\,Putten
SUMMARY: Shantyfestival Putten (Gld)
URL:https://piratenkoor.destormvogels.nl/index.php?option=com_jem&view=even
 t&id=269:shantyfestival-putten-gld
END:VEVENT
END:VCALENDAR