BEGIN:VCALENDAR
VERSION:2.0
PRODID:-//213.154.231.201//NONSGML kigkonsult.se iCalcreator 2.20//
CALSCALE:GREGORIAN
METHOD:PUBLISH
X-WR-TIMEZONE:Europe/Amsterdam
BEGIN:VEVENT
UID:event301@Piratenkoor "de Stormvogels"
DTSTAMP:20260424T183407Z
CATEGORIES:Openbaar     G.i.
DESCRIPTION:Oldtimerdag\nCategorie: Openbaar     G.i.\nLink: https://pirate
 nkoor.destormvogels.nl/index.php?option=com_jem&view=event&id=301:oldtimer
 dag\n
DTSTART;TZID=Europe/Amsterdam:20190525T133000
DTEND;TZID=Europe/Amsterdam:20190525T170000
LOCATION:de Krim\,Beukenlaan 1a\,7782 RP de Krim
SUMMARY:Oldtimerdag
URL:https://piratenkoor.destormvogels.nl/index.php?option=com_jem&view=even
 t&id=301:oldtimerdag
END:VEVENT
END:VCALENDAR