BEGIN:VCALENDAR
VERSION:2.0
PRODID:-//213.154.231.201//NONSGML kigkonsult.se iCalcreator 2.20//
CALSCALE:GREGORIAN
METHOD:PUBLISH
X-WR-TIMEZONE:Europe/Amsterdam
BEGIN:VEVENT
UID:event337@Piratenkoor "de Stormvogels"
DTSTAMP:20260424T133550Z
CATEGORIES:Besloten    K.i.
DESCRIPTION:Laatste repetitieavond 2019\nCategorie: Besloten    K.i.\nLink:
  https://piratenkoor.destormvogels.nl/index.php?option=com_jem&view=event&
 id=337:laatste-repetitieavond-2019\n
DTSTART;TZID=Europe/Amsterdam:20191217T193000
DTEND;TZID=Europe/Amsterdam:20191217T193000
LOCATION:'t Schienvat op Erica\,Heidebloemstraat 4\,7887 EB Erica
SUMMARY:Laatste repetitieavond 2019
URL:https://piratenkoor.destormvogels.nl/index.php?option=com_jem&view=even
 t&id=337:laatste-repetitieavond-2019
END:VEVENT
END:VCALENDAR