BEGIN:VCALENDAR
VERSION:2.0
PRODID:-//213.154.231.201//NONSGML kigkonsult.se iCalcreator 2.20//
CALSCALE:GREGORIAN
METHOD:PUBLISH
X-WR-TIMEZONE:Europe/Amsterdam
BEGIN:VEVENT
UID:event355@Piratenkoor "de Stormvogels"
DTSTAMP:20260424T161909Z
CATEGORIES:Besloten    Onb
DESCRIPTION:ALV\nCategorie: Besloten    Onb\nLink: https://piratenkoor.dest
 ormvogels.nl/index.php?option=com_jem&view=event&id=355:alv\n
DTSTART;TZID=Europe/Amsterdam:20200225T193000
DTEND;TZID=Europe/Amsterdam:20200225T193000
SUMMARY:ALV
URL:https://piratenkoor.destormvogels.nl/index.php?option=com_jem&view=even
 t&id=355:alv
END:VEVENT
END:VCALENDAR