BEGIN:VCALENDAR
VERSION:2.0
PRODID:-//213.154.231.201//NONSGML kigkonsult.se iCalcreator 2.20//
CALSCALE:GREGORIAN
METHOD:PUBLISH
X-WR-TIMEZONE:Europe/Amsterdam
BEGIN:VEVENT
UID:event381@Piratenkoor "de Stormvogels"
DTSTAMP:20260424T133550Z
CATEGORIES:Besloten    Onb
DESCRIPTION:Nieuwjaars bijeenkomst 2022 'AFGELAST'\nCategorie: Besloten    
 Onb\nLink: https://piratenkoor.destormvogels.nl/index.php?option=com_jem&v
 iew=event&id=381:nieuwjaars-bijeenkomst-2022\n
DTSTART;TZID=Europe/Amsterdam:20220107T193000
DTEND;TZID=Europe/Amsterdam:20220107T223000
LOCATION:'t Schienvat op Erica\,Heidebloemstraat 4\,7887 EB Erica
SUMMARY:Nieuwjaars bijeenkomst 2022 'AFGELAST'
URL:https://piratenkoor.destormvogels.nl/index.php?option=com_jem&view=even
 t&id=381:nieuwjaars-bijeenkomst-2022
END:VEVENT
END:VCALENDAR