BEGIN:VCALENDAR
VERSION:2.0
PRODID:-//213.154.231.201//NONSGML kigkonsult.se iCalcreator 2.20//
CALSCALE:GREGORIAN
METHOD:PUBLISH
X-WR-TIMEZONE:Europe/Amsterdam
BEGIN:VEVENT
UID:event385@Piratenkoor "de Stormvogels"
DTSTAMP:20260424T161909Z
CATEGORIES:Besloten    K.i.
DESCRIPTION:de Schans 'AFGELAST'\nCategorie: Besloten    K.i.\nLink: https:
 //piratenkoor.destormvogels.nl/index.php?option=com_jem&view=event&id=385:
 de-schans\n
DTSTART;TZID=Europe/Amsterdam:20211214T193000
DTEND;TZID=Europe/Amsterdam:20211214T213000
LOCATION:de Schans\, Emmen\,Laan van Het Kwekebos 118\,7823 LJ Emmen
SUMMARY:de Schans 'AFGELAST'
URL:https://piratenkoor.destormvogels.nl/index.php?option=com_jem&view=even
 t&id=385:de-schans
END:VEVENT
END:VCALENDAR