BEGIN:VCALENDAR
VERSION:2.0
PRODID:-//213.154.231.201//NONSGML kigkonsult.se iCalcreator 2.20//
CALSCALE:GREGORIAN
METHOD:PUBLISH
X-WR-TIMEZONE:Europe/Amsterdam
BEGIN:VEVENT
UID:event438@Piratenkoor "de Stormvogels"
DTSTAMP:20260424T133552Z
CATEGORIES:Besloten    Onb
DESCRIPTION:Nieuwjaarsreceptie\nCategorie: Besloten    Onb\nLink: https://p
 iratenkoor.destormvogels.nl/index.php?option=com_jem&view=event&id=438:nie
 uwjaarsreceptie\n
DTSTART;TZID=Europe/Amsterdam:20240106T200000
DTEND;TZID=Europe/Amsterdam:20240106T200000
LOCATION:'t Schienvat op Erica\,Heidebloemstraat 4\,7887 EB Erica
SUMMARY:Nieuwjaarsreceptie
URL:https://piratenkoor.destormvogels.nl/index.php?option=com_jem&view=even
 t&id=438:nieuwjaarsreceptie
END:VEVENT
END:VCALENDAR