BEGIN:VCALENDAR
VERSION:2.0
PRODID:-//213.154.231.201//NONSGML kigkonsult.se iCalcreator 2.20//
CALSCALE:GREGORIAN
METHOD:PUBLISH
X-WR-TIMEZONE:Europe/Amsterdam
BEGIN:VEVENT
UID:event443@Piratenkoor "de Stormvogels"
DTSTAMP:20260424T183409Z
CATEGORIES:Openbaar    K.i.
DESCRIPTION:De Cocon Emmen\nCategorie: Openbaar    K.i.\nLink: https://pira
 tenkoor.destormvogels.nl/index.php?option=com_jem&view=event&id=443:de-coc
 on-emmen\n
DTSTART;TZID=Europe/Amsterdam:20240526T143000
DTEND;TZID=Europe/Amsterdam:20240526T163000
LOCATION:De Cocon\,Marktplein 114\,7811 BA Emmen
SUMMARY:De Cocon Emmen
URL:https://piratenkoor.destormvogels.nl/index.php?option=com_jem&view=even
 t&id=443:de-cocon-emmen
END:VEVENT
END:VCALENDAR