BEGIN:VCALENDAR
VERSION:2.0
PRODID:-//213.154.231.201//NONSGML kigkonsult.se iCalcreator 2.20//
CALSCALE:GREGORIAN
METHOD:PUBLISH
X-WR-TIMEZONE:Europe/Amsterdam
BEGIN:VEVENT
UID:event471@Piratenkoor "de Stormvogels"
DTSTAMP:20260424T183410Z
CATEGORIES:Besloten    K.i.
DESCRIPTION:De Bleerinck\nCategorie: Besloten    K.i.\nLink: https://pirate
 nkoor.destormvogels.nl/index.php?option=com_jem&view=event&id=471:de-bleer
 inck\n
DTSTART;TZID=Europe/Amsterdam:20250328T143000
DTEND;TZID=Europe/Amsterdam:20250328T154500
LOCATION:de Bleerinck\, Emmen\,Spehornerbrink 1\,7812 KA Emmen
SUMMARY:De Bleerinck
URL:https://piratenkoor.destormvogels.nl/index.php?option=com_jem&view=even
 t&id=471:de-bleerinck
END:VEVENT
END:VCALENDAR