BEGIN:VCALENDAR
VERSION:2.0
PRODID:-//213.154.231.201//NONSGML kigkonsult.se iCalcreator 2.20//
CALSCALE:GREGORIAN
METHOD:PUBLISH
X-WR-TIMEZONE:Europe/Amsterdam
BEGIN:VEVENT
UID:event490@Piratenkoor "de Stormvogels"
DTSTAMP:20260424T173927Z
CATEGORIES:Besloten    K.i.
DESCRIPTION:de Kibbelhof\nCategorie: Besloten    K.i.\nLink: https://pirate
 nkoor.destormvogels.nl/index.php?option=com_jem&view=event&id=490:de-kibbe
 lhof\n
DTSTART;TZID=Europe/Amsterdam:20251007T140000
DTEND;TZID=Europe/Amsterdam:20251007T160000
SUMMARY:de Kibbelhof
URL:https://piratenkoor.destormvogels.nl/index.php?option=com_jem&view=even
 t&id=490:de-kibbelhof
END:VEVENT
END:VCALENDAR