BEGIN:VCALENDAR
VERSION:2.0
PRODID:-//213.154.231.201//NONSGML kigkonsult.se iCalcreator 2.20//
CALSCALE:GREGORIAN
METHOD:PUBLISH
X-WR-TIMEZONE:Europe/Amsterdam
BEGIN:VEVENT
UID:event505@Piratenkoor "de Stormvogels"
DTSTAMP:20260425T211319Z
CATEGORIES:Openbaar    Onb
DESCRIPTION:Shantyfestival Epe\nCategorie: Openbaar    Onb\nLink: https://p
 iratenkoor.destormvogels.nl/index.php?option=com_jem&view=event&id=505:sha
 ntyfestival-epe\n
DTSTART;VALUE=DATE:20260613
DTEND;VALUE=DATE:20260614
LOCATION:Epe\,Epe
SUMMARY:Shantyfestival Epe
URL:https://piratenkoor.destormvogels.nl/index.php?option=com_jem&view=even
 t&id=505:shantyfestival-epe
END:VEVENT
END:VCALENDAR